BEGIN:VCALENDAR
VERSION:2.0
PRODID:-//Petsearchpa - ECPv6.15.11//NONSGML v1.0//EN
CALSCALE:GREGORIAN
METHOD:PUBLISH
X-WR-CALNAME:Petsearchpa
X-ORIGINAL-URL:https://petsearchpa.org
X-WR-CALDESC:Events for Petsearchpa
REFRESH-INTERVAL;VALUE=DURATION:PT1H
X-Robots-Tag:noindex
X-PUBLISHED-TTL:PT1H
BEGIN:VTIMEZONE
TZID:America/New_York
BEGIN:DAYLIGHT
TZOFFSETFROM:-0500
TZOFFSETTO:-0400
TZNAME:EDT
DTSTART:20240310T070000
END:DAYLIGHT
BEGIN:STANDARD
TZOFFSETFROM:-0400
TZOFFSETTO:-0500
TZNAME:EST
DTSTART:20241103T060000
END:STANDARD
BEGIN:DAYLIGHT
TZOFFSETFROM:-0500
TZOFFSETTO:-0400
TZNAME:EDT
DTSTART:20250309T070000
END:DAYLIGHT
BEGIN:STANDARD
TZOFFSETFROM:-0400
TZOFFSETTO:-0500
TZNAME:EST
DTSTART:20251102T060000
END:STANDARD
BEGIN:DAYLIGHT
TZOFFSETFROM:-0500
TZOFFSETTO:-0400
TZNAME:EDT
DTSTART:20260308T070000
END:DAYLIGHT
BEGIN:STANDARD
TZOFFSETFROM:-0400
TZOFFSETTO:-0500
TZNAME:EST
DTSTART:20261101T060000
END:STANDARD
END:VTIMEZONE
BEGIN:VEVENT
DTSTART;TZID=America/New_York:20250824T090000
DTEND;TZID=America/New_York:20250824T160000
DTSTAMP:20260419T092412
CREATED:20250421T205708Z
LAST-MODIFIED:20250421T210115Z
UID:10000015-1756026000-1756051200@petsearchpa.org
SUMMARY:Rabies Plus Clinic
DESCRIPTION:
URL:https://petsearchpa.org/event/rabies-plus-clinic/
LOCATION:Jessop\, 915 Jessop Place\, Washington\, 15301\, United States
ATTACH;FMTTYPE=image/jpeg:https://petsearchpa.org/wp-content/uploads/2025/03/Rabies-CLinic-August.jpg
ORGANIZER;CN="Petsearch":MAILTO:info@petsearchpa.org
END:VEVENT
BEGIN:VEVENT
DTSTART;TZID=America/New_York:20250608T090000
DTEND;TZID=America/New_York:20250608T160000
DTSTAMP:20260419T092412
CREATED:20250424T221544Z
LAST-MODIFIED:20250424T221544Z
UID:10000023-1749373200-1749398400@petsearchpa.org
SUMMARY:Pet Search's " almost famous" Yard Sale
DESCRIPTION:
URL:https://petsearchpa.org/event/pet-searchs-almost-famous-yard-sale-3/
LOCATION:Jessop\, 915 Jessop Place\, Washington\, 15301\, United States
ATTACH;FMTTYPE=image/jpeg:https://petsearchpa.org/wp-content/uploads/2025/04/yard-sale-2.jpg
END:VEVENT
BEGIN:VEVENT
DTSTART;TZID=America/New_York:20250607T090000
DTEND;TZID=America/New_York:20250607T160000
DTSTAMP:20260419T092412
CREATED:20250424T221353Z
LAST-MODIFIED:20250424T221353Z
UID:10000022-1749286800-1749312000@petsearchpa.org
SUMMARY:Pet Search's " almost famous" Yard Sale
DESCRIPTION:
URL:https://petsearchpa.org/event/pet-searchs-almost-famous-yard-sale-2/
LOCATION:Jessop\, 915 Jessop Place\, Washington\, 15301\, United States
ATTACH;FMTTYPE=image/jpeg:https://petsearchpa.org/wp-content/uploads/2025/04/yard-sale-1.jpg
END:VEVENT
BEGIN:VEVENT
DTSTART;TZID=America/New_York:20250606T090000
DTEND;TZID=America/New_York:20250606T160000
DTSTAMP:20260419T092412
CREATED:20250424T220223Z
LAST-MODIFIED:20250424T220223Z
UID:10000021-1749200400-1749225600@petsearchpa.org
SUMMARY:Pet Search's " almost famous" Yard Sale
DESCRIPTION:
URL:https://petsearchpa.org/event/pet-searchs-almost-famous-yard-sale/
LOCATION:Jessop\, 915 Jessop Place\, Washington\, 15301\, United States
ATTACH;FMTTYPE=image/jpeg:https://petsearchpa.org/wp-content/uploads/2025/04/yard-sale.jpg
END:VEVENT
BEGIN:VEVENT
DTSTART;TZID=America/New_York:20250427T090000
DTEND;TZID=America/New_York:20250427T160000
DTSTAMP:20260419T092412
CREATED:20250311T094427Z
LAST-MODIFIED:20250311T094427Z
UID:10000013-1745744400-1745769600@petsearchpa.org
SUMMARY:Pet Search Rabies Plus Clinic
DESCRIPTION:
URL:https://petsearchpa.org/event/pet-search-rabies-plus-clinic/
LOCATION:Jessop\, 915 Jessop Place\, Washington\, 15301\, United States
ATTACH;FMTTYPE=image/jpeg:https://petsearchpa.org/wp-content/uploads/2025/03/APril-Rabies-Clinic.jpg
ORGANIZER;CN="Petsearch":MAILTO:info@petsearchpa.org
END:VEVENT
END:VCALENDAR