BEGIN:VCALENDAR
VERSION:2.0
PRODID:-//Petsearchpa - ECPv6.15.11//NONSGML v1.0//EN
CALSCALE:GREGORIAN
METHOD:PUBLISH
X-WR-CALNAME:Petsearchpa
X-ORIGINAL-URL:https://petsearchpa.org
X-WR-CALDESC:Events for Petsearchpa
REFRESH-INTERVAL;VALUE=DURATION:PT1H
X-Robots-Tag:noindex
X-PUBLISHED-TTL:PT1H
BEGIN:VTIMEZONE
TZID:America/New_York
BEGIN:DAYLIGHT
TZOFFSETFROM:-0500
TZOFFSETTO:-0400
TZNAME:EDT
DTSTART:20230312T070000
END:DAYLIGHT
BEGIN:STANDARD
TZOFFSETFROM:-0400
TZOFFSETTO:-0500
TZNAME:EST
DTSTART:20231105T060000
END:STANDARD
BEGIN:DAYLIGHT
TZOFFSETFROM:-0500
TZOFFSETTO:-0400
TZNAME:EDT
DTSTART:20240310T070000
END:DAYLIGHT
BEGIN:STANDARD
TZOFFSETFROM:-0400
TZOFFSETTO:-0500
TZNAME:EST
DTSTART:20241103T060000
END:STANDARD
BEGIN:DAYLIGHT
TZOFFSETFROM:-0500
TZOFFSETTO:-0400
TZNAME:EDT
DTSTART:20250309T070000
END:DAYLIGHT
BEGIN:STANDARD
TZOFFSETFROM:-0400
TZOFFSETTO:-0500
TZNAME:EST
DTSTART:20251102T060000
END:STANDARD
BEGIN:DAYLIGHT
TZOFFSETFROM:-0500
TZOFFSETTO:-0400
TZNAME:EDT
DTSTART:20260308T070000
END:DAYLIGHT
BEGIN:STANDARD
TZOFFSETFROM:-0400
TZOFFSETTO:-0500
TZNAME:EST
DTSTART:20261101T060000
END:STANDARD
END:VTIMEZONE
BEGIN:VEVENT
DTSTART;TZID=America/New_York:20250508T170000
DTEND;TZID=America/New_York:20250508T190000
DTSTAMP:20260421T162639
CREATED:20250430T142405Z
LAST-MODIFIED:20250430T142405Z
UID:10000025-1746723600-1746730800@petsearchpa.org
SUMMARY:Wine and Wags Yappy Hour
DESCRIPTION:
URL:https://petsearchpa.org/event/wine-and-wags-yappy-hour/
LOCATION:Bubba’s Burgers\, 114 Southpointe Blvd\, Canonsburg\, PA\, 15317\, United States
ATTACH;FMTTYPE=image/jpeg:https://petsearchpa.org/wp-content/uploads/2025/04/IMG_4359.jpeg
END:VEVENT
BEGIN:VEVENT
DTSTART;TZID=America/New_York:20250504T130000
DTEND;TZID=America/New_York:20250504T160000
DTSTAMP:20260421T162639
CREATED:20250430T141823Z
LAST-MODIFIED:20250430T141823Z
UID:10000024-1746363600-1746374400@petsearchpa.org
SUMMARY:Bark in the Park
DESCRIPTION:
URL:https://petsearchpa.org/event/bark-in-the-park/
LOCATION:Allison Park\, 1125 Mc Govern Rd\, Houston\, 15432\, United States
ATTACH;FMTTYPE=image/jpeg:https://petsearchpa.org/wp-content/uploads/2025/04/IMG_4430.jpeg
END:VEVENT
BEGIN:VEVENT
DTSTART;TZID=America/New_York:20250504T110000
DTEND;TZID=America/New_York:20250504T220000
DTSTAMP:20260421T162639
CREATED:20250422T100328Z
LAST-MODIFIED:20250422T100328Z
UID:10000019-1746356400-1746396000@petsearchpa.org
SUMMARY:Dine to Donate Texas Road House
DESCRIPTION:
URL:https://petsearchpa.org/event/dine-to-donate-texas-road-house/
LOCATION:Texas Road House\, 325 Washington Road\, Washington\, PA\, 15301\, United States
ATTACH;FMTTYPE=image/jpeg:https://petsearchpa.org/wp-content/uploads/2025/04/D2D-Texas-Road-House.jpg
END:VEVENT
BEGIN:VEVENT
DTSTART;TZID=America/New_York:20250503T110000
DTEND;TZID=America/New_York:20250503T160000
DTSTAMP:20260421T162639
CREATED:20250430T143227Z
LAST-MODIFIED:20250430T143227Z
UID:10000027-1746270000-1746288000@petsearchpa.org
SUMMARY:Cinco de Meow
DESCRIPTION:It’s Cinco de Meow at Pet Supplies Plus in Bridgeville on Saturday May 3 from 11-4!\nJoin Pet Search in our fun fiesta of foster dogs\, cats\,puppies and kittens waiting to celebrate their adoption with you!\nIt’s time to meet your new best amigo!
URL:https://petsearchpa.org/event/cinco-de-meow/
LOCATION:Pet Supply Plus Bridgeville\, 1155 Washington Pike\, Bridgeville\, 15017\, United States
ATTACH;FMTTYPE=image/jpeg:https://petsearchpa.org/wp-content/uploads/2025/04/IMG_4432.jpeg
END:VEVENT
BEGIN:VEVENT
DTSTART;TZID=America/New_York:20250427T090000
DTEND;TZID=America/New_York:20250427T160000
DTSTAMP:20260421T162639
CREATED:20250311T094427Z
LAST-MODIFIED:20250311T094427Z
UID:10000013-1745744400-1745769600@petsearchpa.org
SUMMARY:Pet Search Rabies Plus Clinic
DESCRIPTION:
URL:https://petsearchpa.org/event/pet-search-rabies-plus-clinic/
LOCATION:Jessop\, 915 Jessop Place\, Washington\, 15301\, United States
ATTACH;FMTTYPE=image/jpeg:https://petsearchpa.org/wp-content/uploads/2025/03/APril-Rabies-Clinic.jpg
ORGANIZER;CN="Petsearch":MAILTO:info@petsearchpa.org
END:VEVENT
BEGIN:VEVENT
DTSTART;TZID=America/New_York:20250426T110000
DTEND;TZID=America/New_York:20250426T160000
DTSTAMP:20260421T162639
CREATED:20250424T111921Z
LAST-MODIFIED:20250424T111921Z
UID:10000020-1745665200-1745683200@petsearchpa.org
SUMMARY:Pet Search Adoption Event
DESCRIPTION:
URL:https://petsearchpa.org/event/pet-search-adoption-event/
LOCATION:Pet Supplies Plus-Robinson\, 1100 Settlers Ridge Dr\, Pittsburgh\, PA\, 15205\, United States
ATTACH;FMTTYPE=image/jpeg:https://petsearchpa.org/wp-content/uploads/2025/04/IMG_4347-1.jpeg
END:VEVENT
BEGIN:VEVENT
DTSTART;TZID=America/New_York:20250424T110000
DTEND;TZID=America/New_York:20250424T230000
DTSTAMP:20260421T162639
CREATED:20250422T002426Z
LAST-MODIFIED:20250422T095903Z
UID:10000018-1745492400-1745535600@petsearchpa.org
SUMMARY:Dine to Donate at Primanti Bros
DESCRIPTION:
URL:https://petsearchpa.org/event/dine-to-donate-at-primanti-bros/
LOCATION:Primanti Bros\, 400 Adios Drive\, Washington\, PA\, 15301\, United States
ATTACH;FMTTYPE=image/jpeg:https://petsearchpa.org/wp-content/uploads/2025/04/Primanti-dine-to-donate.jpg
END:VEVENT
BEGIN:VEVENT
DTSTART;TZID=America/New_York:20250406T110000
DTEND;TZID=America/New_York:20250406T150000
DTSTAMP:20260421T162639
CREATED:20250321T121906Z
LAST-MODIFIED:20250321T121906Z
UID:10000014-1743937200-1743951600@petsearchpa.org
SUMMARY:Pictures with the Easter Bunny
DESCRIPTION:Save the date for Photos with Patricia and Peter Cottontail!New location: Rural King Washington$5.00 donation for a 4 x6 printed photoChildren and families also welcomeWe will also host a mini adoption event so your hew best friend may just be there waiting to meet you 
URL:https://petsearchpa.org/event/pictures-with-the-easter-bunny/
LOCATION:Rural King\, 1500 Chestnut St\, Washington\, PA\, 15301\, United States
ATTACH;FMTTYPE=image/jpeg:https://petsearchpa.org/wp-content/uploads/2025/03/Pictures-with-Easter-Bunny.jpg
END:VEVENT
BEGIN:VEVENT
DTSTART;TZID=America/New_York:20250322T100000
DTEND;TZID=America/New_York:20250322T160000
DTSTAMP:20260421T162639
CREATED:20250128T121504Z
LAST-MODIFIED:20250311T094128Z
UID:10000010-1742637600-1742659200@petsearchpa.org
SUMMARY:Spring Fling Art\, Craft and Vendor Show
DESCRIPTION:
URL:https://petsearchpa.org/event/spring-fling-art-craft-and-vendor-show/
LOCATION:American Legion\, 168 Park Ave\, Washington\, PA\, 15301\, United States
ATTACH;FMTTYPE=image/jpeg:https://petsearchpa.org/wp-content/uploads/2025/01/Vendor-show1.jpg
END:VEVENT
BEGIN:VEVENT
DTSTART;TZID=America/New_York:20250315T190000
DTEND;TZID=America/New_York:20250315T200000
DTSTAMP:20260421T162639
CREATED:20250218T135648Z
LAST-MODIFIED:20250218T135648Z
UID:10000011-1742065200-1742068800@petsearchpa.org
SUMMARY:Pet Search’s March Madness Virtual Purse Bash
DESCRIPTION:Pet Search’s March Madness Virtual Purse Bash \nSaturday March 15th\, 7pm \nWinners to be drawn via Facebook Live. \nDesigners include Coach\, Kate Spade\, Michael Kors\, Marc Jacobs\, Tory Burch and Dooney & Bourke. \n12 purses \n10 Baskets \nTickets price $20 \nFor an additional $10 you can be entered into the Basket auction (1 ticket per basket) \nMarch Madness Special 2 purse chances and 2 Basket auction chances for $50 \nGo to our Facebook page “Pet Search’s March Madness Virtual Purse Bash” to check out the purses and gift baskets. \nTickets can be purchased at any event\, by mail or via Square with the links below. \nSingle Purse Ticket \nhttps://square.link/u/q1iV4y2M?src=sheet \nBasket Auction $10 \nhttps://square.link/u/hn7mnWUp?src=sheet \nMarch Madness Special-2 purse tickets and 2 basket tickets for $50 \nhttps://square.link/u/pu9EGW2U?src=sheet \n  \nTickets will be emailed to the address on file with square. \nNot responsible for typographical errors\, all prizes must be claimed within 30 days.
URL:https://petsearchpa.org/event/pet-searchs-march-madness-virtual-purse-bash/
ATTACH;FMTTYPE=image/jpeg:https://petsearchpa.org/wp-content/uploads/2025/02/IMG_3429.jpeg
END:VEVENT
BEGIN:VEVENT
DTSTART;TZID=America/New_York:20250315T110000
DTEND;TZID=America/New_York:20250315T160000
DTSTAMP:20260421T162639
CREATED:20250311T010923Z
LAST-MODIFIED:20250311T010923Z
UID:10000012-1742036400-1742054400@petsearchpa.org
SUMMARY:Pet Search Meet and Greet Adoption Event
DESCRIPTION:
URL:https://petsearchpa.org/event/pet-search-meet-and-greet-adoption-event-3/
LOCATION:Rural King\, 1500 Chestnut St\, Washington\, PA\, 15301\, United States
ATTACH;FMTTYPE=image/jpeg:https://petsearchpa.org/wp-content/uploads/2025/03/Rural-King.jpg
END:VEVENT
BEGIN:VEVENT
DTSTART;TZID=America/New_York:20250216T100000
DTEND;TZID=America/New_York:20250216T160000
DTSTAMP:20260421T162639
CREATED:20250112T191637Z
LAST-MODIFIED:20250112T191637Z
UID:10000006-1739700000-1739721600@petsearchpa.org
SUMMARY:Rabies Clinic
DESCRIPTION:
URL:https://petsearchpa.org/event/rabies-clinic/
LOCATION:Canonsburg Fire Department\, 68 East Pike Street\, Canonsburg\, PA\, 15317\, United States
END:VEVENT
BEGIN:VEVENT
DTSTART;TZID=America/New_York:20250215T110000
DTEND;TZID=America/New_York:20250215T160000
DTSTAMP:20260421T162639
CREATED:20250126T125129Z
LAST-MODIFIED:20250126T125129Z
UID:10000008-1739617200-1739635200@petsearchpa.org
SUMMARY:Pet Search Meet and Greet Adoption Event
DESCRIPTION:
URL:https://petsearchpa.org/event/pet-search-meet-and-greet-adoption-event-2/
LOCATION:Pet Supply Plus Bridgeville\, 1155 Washington Pike\, Bridgeville\, 15017\, United States
END:VEVENT
BEGIN:VEVENT
DTSTART;TZID=America/New_York:20250118T110000
DTEND;TZID=America/New_York:20250118T150000
DTSTAMP:20260421T162639
CREATED:20250115T012454Z
LAST-MODIFIED:20250115T012454Z
UID:10000007-1737198000-1737212400@petsearchpa.org
SUMMARY:Pet Search Meet and Greet Adoption Event
DESCRIPTION:
URL:https://petsearchpa.org/event/pet-search-meet-and-greet-adoption-event/
LOCATION:Rural King\, 1500 Chestnut St\, Washington\, PA\, 15301\, United States
END:VEVENT
BEGIN:VEVENT
DTSTART;TZID=America/New_York:20241203T080000
DTEND;TZID=America/New_York:20241203T170000
DTSTAMP:20260421T162639
CREATED:20241202T103224Z
LAST-MODIFIED:20241202T103224Z
UID:10000005-1733212800-1733245200@petsearchpa.org
SUMMARY:Pet Show
DESCRIPTION:pets Show for Adoption Looking for a furry friend to bring love and joy into your life?
URL:https://petsearchpa.org/event/pet-show/
ORGANIZER;CN="Petsearch":MAILTO:info@petsearchpa.org
END:VEVENT
BEGIN:VEVENT
DTSTART;TZID=America/New_York:20241201T080000
DTEND;TZID=America/New_York:20241201T170000
DTSTAMP:20260421T162639
CREATED:20241126T044722Z
LAST-MODIFIED:20241126T113336Z
UID:10000002-1733040000-1733072400@petsearchpa.org
SUMMARY:Dogs Show for Adoption
DESCRIPTION:Dogs Show for Adoption \nLooking for a furry friend to bring love and joy into your life? Join us at the Dogs Show for Adoption\, where adorable dogs of all breeds\, ages\, and sizes are waiting to find their forever homes! \nEvent Highlights:\n🐾 Meet and Greet: Spend time with the dogs to find your perfect match.\n🐾 Adoption Support: Get guidance from animal experts to ensure a smooth adoption process.\n🐾 Family Fun: Enjoy fun activities for kids and adults\, including games\, photo ops\, and pet care workshops.\n🐾 Health Checks: All dogs are vaccinated\, dewormed\, and microchipped for their safety and yours. \nWhy Adopt?\nAdopting a dog saves a life and gives you a loyal companion. Our event partners with shelters and rescue organizations to give these lovable pups a second chance. \nDon’t miss this chance to change a dog’s life—and yours! Come ready to meet your new best friend. \nWhat to Bring:\n\nA valid ID\nProof of residence\nAdoption fee (varies by organization)\n\nFor more information or to pre-register\, contact us at [Insert Contact Info]. Let’s give these dogs the loving homes they deserve! 🐶❤️
URL:https://petsearchpa.org/event/dogs-show-for-adoption/
ORGANIZER;CN="Petsearch":MAILTO:info@petsearchpa.org
END:VEVENT
BEGIN:VEVENT
DTSTART;TZID=America/New_York:20241128T090000
DTEND;TZID=America/New_York:20241128T183000
DTSTAMP:20260421T162639
CREATED:20241126T123503Z
LAST-MODIFIED:20241126T123622Z
UID:10000004-1732784400-1732818600@petsearchpa.org
SUMMARY:Cat Show
DESCRIPTION:
URL:https://petsearchpa.org/event/cat-show/
ORGANIZER;CN="Petsearch":MAILTO:info@petsearchpa.org
END:VEVENT
END:VCALENDAR