BEGIN:VCALENDAR
VERSION:2.0
PRODID:-//Petsearchpa - ECPv6.15.11//NONSGML v1.0//EN
CALSCALE:GREGORIAN
METHOD:PUBLISH
X-WR-CALNAME:Petsearchpa
X-ORIGINAL-URL:https://petsearchpa.org
X-WR-CALDESC:Events for Petsearchpa
REFRESH-INTERVAL;VALUE=DURATION:PT1H
X-Robots-Tag:noindex
X-PUBLISHED-TTL:PT1H
BEGIN:VTIMEZONE
TZID:America/New_York
BEGIN:DAYLIGHT
TZOFFSETFROM:-0500
TZOFFSETTO:-0400
TZNAME:EDT
DTSTART:20250309T070000
END:DAYLIGHT
BEGIN:STANDARD
TZOFFSETFROM:-0400
TZOFFSETTO:-0500
TZNAME:EST
DTSTART:20251102T060000
END:STANDARD
BEGIN:DAYLIGHT
TZOFFSETFROM:-0500
TZOFFSETTO:-0400
TZNAME:EDT
DTSTART:20260308T070000
END:DAYLIGHT
BEGIN:STANDARD
TZOFFSETFROM:-0400
TZOFFSETTO:-0500
TZNAME:EST
DTSTART:20261101T060000
END:STANDARD
BEGIN:DAYLIGHT
TZOFFSETFROM:-0500
TZOFFSETTO:-0400
TZNAME:EDT
DTSTART:20270314T070000
END:DAYLIGHT
BEGIN:STANDARD
TZOFFSETFROM:-0400
TZOFFSETTO:-0500
TZNAME:EST
DTSTART:20271107T060000
END:STANDARD
END:VTIMEZONE
BEGIN:VEVENT
DTSTART;TZID=America/New_York:20260830T090000
DTEND;TZID=America/New_York:20260830T160000
DTSTAMP:20260421T123250
CREATED:20251227T150546Z
LAST-MODIFIED:20251227T150546Z
UID:10000031-1788080400-1788105600@petsearchpa.org
SUMMARY:Rabies Plus Clinic
DESCRIPTION:
URL:https://petsearchpa.org/event/rabies-plus-clinic-5/
LOCATION:Jessop\, 915 Jessop Place\, Washington\, 15301\, United States
END:VEVENT
BEGIN:VEVENT
DTSTART;TZID=America/New_York:20261018T090000
DTEND;TZID=America/New_York:20261018T160000
DTSTAMP:20260421T123250
CREATED:20251227T150720Z
LAST-MODIFIED:20251227T150720Z
UID:10000032-1792314000-1792339200@petsearchpa.org
SUMMARY:Rabies Plus Clinic
DESCRIPTION:
URL:https://petsearchpa.org/event/rabies-plus-clinic-6/
LOCATION:Canonsburg Fire Department\, 68 East Pike Street\, Canonsburg\, PA\, 15317\, United States
END:VEVENT
BEGIN:VEVENT
DTSTART;TZID=America/New_York:20261115T120000
DTEND;TZID=America/New_York:20261115T170000
DTSTAMP:20260421T123250
CREATED:20260103T203421Z
LAST-MODIFIED:20260103T203421Z
UID:10000035-1794744000-1794762000@petsearchpa.org
SUMMARY:Paws-ta-Paw-ty Spaghetti Dinner
DESCRIPTION:
URL:https://petsearchpa.org/event/paws-ta-paw-ty-spaghetti-dinner/
LOCATION:American Legion\, 168 Park Ave\, Washington\, PA\, 15301\, United States
END:VEVENT
BEGIN:VEVENT
DTSTART;TZID=America/New_York:20261121T100000
DTEND;TZID=America/New_York:20261121T160000
DTSTAMP:20260421T123250
CREATED:20260103T203557Z
LAST-MODIFIED:20260103T203557Z
UID:10000036-1795255200-1795276800@petsearchpa.org
SUMMARY:Winter Wonderland Art\, Craft and Vendor Show
DESCRIPTION:
URL:https://petsearchpa.org/event/winter-wonderland-art-craft-and-vendor-show/
LOCATION:American Legion\, 168 Park Ave\, Washington\, PA\, 15301\, United States
END:VEVENT
END:VCALENDAR